<?xml version="1.0" encoding="UTF-8"?>
<Capabilities xmlns="http://www.opengis.net/wmts/1.0"
	xmlns:ows="http://www.opengis.net/ows/1.1"
	xmlns:xlink="http://www.w3.org/1999/xlink"
	xmlns:xsi="http://www.w3.org/2001/XMLSchema-instance"
	xmlns:gml="http://www.opengis.net/gml"
	xsi:schemaLocation="http://www.opengis.net/wmts/1.0 http://schemas.opengis.net/wmts/1.0/wmtsGetCapabilities_response.xsd"
	version="1.0.0">
  <!-- Service Identification --> 
 <ows:ServiceIdentification>
	<ows:Title>Aerial2017</ows:Title>
	<ows:ServiceType>OGC WMTS</ows:ServiceType>
	<ows:ServiceTypeVersion>1.0.0</ows:ServiceTypeVersion>
</ows:ServiceIdentification> <!-- Operations Metadata --> <ows:OperationsMetadata>
	<ows:Operation name="GetCapabilities">
		<ows:DCP>
			<ows:HTTP>
				<ows:Get xlink:href="https://maps.london.ca/server/rest/services/Aerial2017/MapServer/WMTS/1.0.0/WMTSCapabilities.xml">
					<ows:Constraint name="GetEncoding">
						<ows:AllowedValues>
							<ows:Value>RESTful</ows:Value>
						</ows:AllowedValues>
					</ows:Constraint>
				</ows:Get>
                <!-- add KVP binding in 10.1 -->
                <ows:Get xlink:href="https://maps.london.ca/server/rest/services/Aerial2017/MapServer/WMTS?">
                  <ows:Constraint name="GetEncoding">
                    <ows:AllowedValues>
                      <ows:Value>KVP</ows:Value>
                    </ows:AllowedValues>
                  </ows:Constraint>
                </ows:Get>
    		</ows:HTTP>
    </ows:DCP>
	</ows:Operation>
	<ows:Operation name="GetTile">
		<ows:DCP>
			<ows:HTTP>
				<ows:Get xlink:href="https://maps.london.ca/server/rest/services/Aerial2017/MapServer/WMTS/tile/1.0.0/">
					<ows:Constraint name="GetEncoding">
						<ows:AllowedValues>
							<ows:Value>RESTful</ows:Value>
						</ows:AllowedValues>
					</ows:Constraint>
				</ows:Get>
                <ows:Get xlink:href="https://maps.london.ca/server/rest/services/Aerial2017/MapServer/WMTS?">
                  <ows:Constraint name="GetEncoding">
                    <ows:AllowedValues>
                      <ows:Value>KVP</ows:Value>
                    </ows:AllowedValues>
                  </ows:Constraint>
                </ows:Get>
            </ows:HTTP>
		</ows:DCP>
	</ows:Operation>
</ows:OperationsMetadata> 
<Contents>
  <!--Layer-->  
  <Layer>
    <ows:Title>Aerial2017</ows:Title> 
    <ows:Identifier>Aerial2017</ows:Identifier>
    <ows:BoundingBox crs="urn:ogc:def:crs:EPSG::26917">
	  <ows:LowerCorner>467000.0 4740000.0</ows:LowerCorner>
			<ows:UpperCorner>493000.0 4770000.0</ows:UpperCorner>
		</ows:BoundingBox>  
      <ows:WGS84BoundingBox crs="urn:ogc:def:crs:OGC:2:84">
      <ows:LowerCorner>-81.40540574587642 42.811846406108096</ows:LowerCorner>
      <ows:UpperCorner>-81.08562091856264 43.08268068319529</ows:UpperCorner>
    </ows:WGS84BoundingBox>
    <Style isDefault="true">
      <ows:Title>Default Style</ows:Title>
      <ows:Identifier>default</ows:Identifier>
    </Style>
    <Format>image/jpgpng</Format>
    <TileMatrixSetLink>
      <TileMatrixSet>default028mm</TileMatrixSet>
    </TileMatrixSetLink>
      <ResourceURL format="image/jpgpng" resourceType="tile" template="https://maps.london.ca/server/rest/services/Aerial2017/MapServer/WMTS/tile/1.0.0/Aerial2017/{Style}/{TileMatrixSet}/{TileMatrix}/{TileRow}/{TileCol}" />
  </Layer> 
   <!--TileMatrixSet-->
   <TileMatrixSet>
     <ows:Title>TileMatrix using 0.28mm</ows:Title>
     <ows:Abstract>The tile matrix set that has scale values calculated based on the dpi defined by OGC specification (dpi assumes 0.28mm as the physical distance of a pixel).</ows:Abstract> 
     <ows:Identifier>default028mm</ows:Identifier>
     <ows:SupportedCRS>urn:ogc:def:crs:EPSG::26917</ows:SupportedCRS>
      <TileMatrix>
          <ows:Identifier>0</ows:Identifier>
          <ScaleDenominator>236235.59151877242</ScaleDenominator>
          <TopLeftCorner>-5120900.0 9998100.0</TopLeftCorner>  
          <TileWidth>256</TileWidth> 
          <TileHeight>256</TileHeight>
          <MatrixWidth>332</MatrixWidth> 
            <MatrixHeight>311</MatrixHeight>
          </TileMatrix>
          <TileMatrix>
          <ows:Identifier>1</ows:Identifier>
          <ScaleDenominator>118117.79575938621</ScaleDenominator>
          <TopLeftCorner>-5120900.0 9998100.0</TopLeftCorner>  
          <TileWidth>256</TileWidth> 
          <TileHeight>256</TileHeight>
          <MatrixWidth>664</MatrixWidth> 
            <MatrixHeight>622</MatrixHeight>
          </TileMatrix>
          <TileMatrix>
          <ows:Identifier>2</ows:Identifier>
          <ScaleDenominator>60476.31142880573</ScaleDenominator>
          <TopLeftCorner>-5120900.0 9998100.0</TopLeftCorner>  
          <TileWidth>256</TileWidth> 
          <TileHeight>256</TileHeight>
          <MatrixWidth>1296</MatrixWidth> 
            <MatrixHeight>1213</MatrixHeight>
          </TileMatrix>
          <TileMatrix>
          <ows:Identifier>3</ows:Identifier>
          <ScaleDenominator>30238.155714402867</ScaleDenominator>
          <TopLeftCorner>-5120900.0 9998100.0</TopLeftCorner>  
          <TileWidth>256</TileWidth> 
          <TileHeight>256</TileHeight>
          <MatrixWidth>2591</MatrixWidth> 
            <MatrixHeight>2426</MatrixHeight>
          </TileMatrix>
          <TileMatrix>
          <ows:Identifier>4</ows:Identifier>
          <ScaleDenominator>15119.077857201433</ScaleDenominator>
          <TopLeftCorner>-5120900.0 9998100.0</TopLeftCorner>  
          <TileWidth>256</TileWidth> 
          <TileHeight>256</TileHeight>
          <MatrixWidth>5181</MatrixWidth> 
            <MatrixHeight>4852</MatrixHeight>
          </TileMatrix>
          <TileMatrix>
          <ows:Identifier>5</ows:Identifier>
          <ScaleDenominator>7559.538928600717</ScaleDenominator>
          <TopLeftCorner>-5120900.0 9998100.0</TopLeftCorner>  
          <TileWidth>256</TileWidth> 
          <TileHeight>256</TileHeight>
          <MatrixWidth>10361</MatrixWidth> 
            <MatrixHeight>9704</MatrixHeight>
          </TileMatrix>
          <TileMatrix>
          <ows:Identifier>6</ows:Identifier>
          <ScaleDenominator>3779.7694643003583</ScaleDenominator>
          <TopLeftCorner>-5120900.0 9998100.0</TopLeftCorner>  
          <TileWidth>256</TileWidth> 
          <TileHeight>256</TileHeight>
          <MatrixWidth>20721</MatrixWidth> 
            <MatrixHeight>19408</MatrixHeight>
          </TileMatrix>
          <TileMatrix>
          <ows:Identifier>7</ows:Identifier>
          <ScaleDenominator>1889.8847321501792</ScaleDenominator>
          <TopLeftCorner>-5120900.0 9998100.0</TopLeftCorner>  
          <TileWidth>256</TileWidth> 
          <TileHeight>256</TileHeight>
          <MatrixWidth>41442</MatrixWidth> 
            <MatrixHeight>38815</MatrixHeight>
          </TileMatrix>
          <TileMatrix>
          <ows:Identifier>8</ows:Identifier>
          <ScaleDenominator>944.9423660750896</ScaleDenominator>
          <TopLeftCorner>-5120900.0 9998100.0</TopLeftCorner>  
          <TileWidth>256</TileWidth> 
          <TileHeight>256</TileHeight>
          <MatrixWidth>82883</MatrixWidth> 
            <MatrixHeight>77630</MatrixHeight>
          </TileMatrix>
          <TileMatrix>
          <ows:Identifier>9</ows:Identifier>
          <ScaleDenominator>472.4711830375448</ScaleDenominator>
          <TopLeftCorner>-5120900.0 9998100.0</TopLeftCorner>  
          <TileWidth>256</TileWidth> 
          <TileHeight>256</TileHeight>
          <MatrixWidth>165765</MatrixWidth> 
            <MatrixHeight>155259</MatrixHeight>
          </TileMatrix>
          <TileMatrix>
          <ows:Identifier>10</ows:Identifier>
          <ScaleDenominator>236.2355915187724</ScaleDenominator>
          <TopLeftCorner>-5120900.0 9998100.0</TopLeftCorner>  
          <TileWidth>256</TileWidth> 
          <TileHeight>256</TileHeight>
          <MatrixWidth>331529</MatrixWidth> 
            <MatrixHeight>310518</MatrixHeight>
          </TileMatrix>
          <TileMatrix>
          <ows:Identifier>11</ows:Identifier>
          <ScaleDenominator>118.1177957593862</ScaleDenominator>
          <TopLeftCorner>-5120900.0 9998100.0</TopLeftCorner>  
          <TileWidth>256</TileWidth> 
          <TileHeight>256</TileHeight>
          <MatrixWidth>663058</MatrixWidth> 
            <MatrixHeight>621035</MatrixHeight>
          </TileMatrix>
          </TileMatrixSet>
   </Contents>
<ServiceMetadataURL xlink:href="https://maps.london.ca/server/rest/services/Aerial2017/MapServer/WMTS/1.0.0/WMTSCapabilities.xml" /> 
</Capabilities>
